{
 "currentVersion": 11.5,
 "cimVersion": "3.5.0",
 "serviceDescription": "",
 "mapName": "Map",
 "description": "",
 "copyrightText": "",
 "supportsDynamicLayers": true,
 "layers": [],
 "tables": [],
 "spatialReference": {
  "wkid": 102100,
  "latestWkid": 3857,
  "xyTolerance": 0.001,
  "zTolerance": 0.001,
  "mTolerance": 0.001,
  "falseX": -20037700,
  "falseY": -30241100,
  "xyUnits": 10000,
  "falseZ": -100000,
  "zUnits": 10000,
  "falseM": -100000,
  "mUnits": 10000
 },
 "singleFusedMapCache": true,
 "tileInfo": {
  "rows": 256,
  "cols": 256,
  "dpi": 96,
  "format": "PNG",
  "compressionQuality": 0,
  "origin": {
   "x": -20037700,
   "y": 9.00689684374099E11
  },
  "spatialReference": {
   "wkid": 102100,
   "latestWkid": 3857,
   "xyTolerance": 0.001,
   "zTolerance": 0.001,
   "mTolerance": 0.001,
   "falseX": -20037700,
   "falseY": -30241100,
   "xyUnits": 10000,
   "falseZ": -100000,
   "zUnits": 10000,
   "falseM": -100000,
   "mUnits": 10000
  },
  "lods": [
   {
    "level": 0,
    "resolution": 264.5838625010584,
    "scale": 1000000
   },
   {
    "level": 1,
    "resolution": 132.2919312505292,
    "scale": 500000
   },
   {
    "level": 2,
    "resolution": 66.1459656252646,
    "scale": 250000
   },
   {
    "level": 3,
    "resolution": 33.0729828126323,
    "scale": 125000
   },
   {
    "level": 4,
    "resolution": 16.53649140631615,
    "scale": 62500
   },
   {
    "level": 5,
    "resolution": 8.268245703158074,
    "scale": 31250
   },
   {
    "level": 6,
    "resolution": 4.134122851579037,
    "scale": 15625
   },
   {
    "level": 7,
    "resolution": 2.0670614257895186,
    "scale": 7812.5
   },
   {
    "level": 8,
    "resolution": 1.0335307128947593,
    "scale": 3906.25
   },
   {
    "level": 9,
    "resolution": 0.5167653564473796,
    "scale": 1953.125
   },
   {
    "level": 10,
    "resolution": 0.2583826782236898,
    "scale": 976.5625
   },
   {
    "level": 11,
    "resolution": 0.1291913391118449,
    "scale": 488.28125
   },
   {
    "level": 12,
    "resolution": 0.06459566955592246,
    "scale": 244.140625
   }
  ]
 },
 "storageInfo": {
  "storageFormat": "esriMapCacheStorageModeCompactV2",
  "packetSize": 128
 },
 "initialExtent": {
  "xmin": -1.2116962169441482E7,
  "ymin": 4759211.083814483,
  "xmax": -1.193962797654097E7,
  "ymax": 4887570.310083628,
  "spatialReference": {
   "cs": "pcs",
   "wkid": 102100
  }
 },
 "fullExtent": {
  "xmin": -1.214389786902964E7,
  "ymin": 4766866.898118422,
  "xmax": -1.191269185368257E7,
  "ymax": 4879912.274614644,
  "spatialReference": {
   "cs": "pcs",
   "wkid": 102100
  }
 },
 "datesInUnknownTimezone": false,
 "minScale": 2.95828763795777E8,
 "maxScale": 9244648.868618,
 "units": "esriMeters",
 "supportedImageFormatTypes": "PNG32,PNG24,PNG,JPG,DIB,TIFF,EMF,PS,PDF,GIF,SVG,SVGZ,BMP",
 "documentInfo": {
  "Title": "Map",
  "Author": "",
  "Comments": "",
  "Subject": "",
  "Category": "",
  "Version": "3.5.0",
  "AntialiasingMode": "Fast",
  "TextAntialiasingMode": "Force",
  "Keywords": "emergency management,evacuations"
 },
 "supportsQueryDomains": true,
 "capabilities": "Query,Map,Data",
 "supportedQueryFormats": "JSON, geoJSON, PBF",
 "exportTilesAllowed": false,
 "referenceScale": 0.0,
 "datumTransformations": [
  {
   "geoTransforms": [
    {
     "wkid": 108190,
     "latestWkid": 108190,
     "transformForward": false,
     "name": "WGS_1984_(ITRF00)_To_NAD_1983"
    }
   ]
  },
  {
   "geoTransforms": [
    {
     "wkid": 108190,
     "latestWkid": 108190,
     "transformForward": true,
     "name": "WGS_1984_(ITRF00)_To_NAD_1983"
    }
   ]
  }
 ],
 "supportsDatumTransformation": true,
 "floorAwareMapProperties": {
  "defaultFloorFilterSettings": {
   "isEnabled": false
  }
 },
 "archivingInfo": {
  "supportsHistoricMoment": false
 },
 "supportsClipping": true,
 "supportsSpatialFilter": true,
 "supportsTimeRelation": true,
 "supportsQueryDataElements": true,
 "mapUnits": {
  "uwkid": 9001
 },
 "maxSelectionCount": 2000,
 "maxRecordCount": 2000,
 "maxImageHeight": 4096,
 "maxImageWidth": 4096,
 "supportedExtensions": ""
}
